BEGIN:VCALENDAR
VERSION:2.0
PRODID:-//eventon.com NONSGML v1.0//EN
CALSCALE:GREGORIAN
METHOD:PUBLISH
BEGIN:VEVENT
UID:69e80d6248781
DTSTAMP:20260421T235058Z
DTSTART:20251207T210000Z
DTEND:20251208T105900Z
LOCATION:Mills Park Hotel 321 Xenia Ave
SUMMARY:Brunch with Santa at Mills Park Hotel
DESCRIPTION:Tickets include: Unlimited buffet brunch Hot chocolate bar with
  choice of toppings Complimentary digital photo with Santa Printed options 
 available for purchase Brunch buffet menu: Pancakes Hash Browns Bacon Scram
 bled Eggs Mac n Cheese Chicken Nuggets All tables can accommodate up to 10 
 guests. Larger parties will need to choose[..]\nhttps://ohparent.com/events
 /brunch-with-santa-at-mills-park-hotel/
URL:https://ohparent.com/events/brunch-with-santa-at-mills-park-hotel/
END:VEVENT
END:VCALENDAR