BEGIN:VCALENDAR
VERSION:2.0
PRODID:-//eventon.com NONSGML v1.0//EN
CALSCALE:GREGORIAN
METHOD:PUBLISH
BEGIN:VEVENT
UID:69eb7a28f2586
DTSTAMP:20260424T141152Z
DTSTART:20251213T200000Z
DTEND:20251214T105900Z
LOCATION:Joseph-Beth Rookwood 2692 Madison Road\,  Cincinnati\,  OH
SUMMARY:Breakfast with Santa at Joseph Beth
DESCRIPTION:Meet Santa while enjoying a fantastic feast of pancakes\,  saus
 age\,  fruit\,  and your choice of coffee\,  tea\,  milk\,  or orange juice
 . Purchase tickets below. $20 per person Limited seats available!\nhttps://
 ohparent.com/events/breakfast-with-santa-at-joseph-beth/
URL:https://ohparent.com/events/breakfast-with-santa-at-joseph-beth/
END:VEVENT
END:VCALENDAR