BEGIN:VCALENDAR
VERSION:2.0
PRODID:-//eventon.com NONSGML v1.0//EN
CALSCALE:GREGORIAN
METHOD:PUBLISH
BEGIN:VEVENT
UID:69e5ff0c5f8c4
DTSTAMP:20260420T102516Z
DTSTART:20250511T130000Z
DTEND:20250511T141500Z
LOCATION:Lebanon Mason Monroe Railroad 127 S. Mechanic St.\,  Lebanon\,  OH 45036
SUMMARY:Mom’s and Mimosas at LM&M Railroad
DESCRIPTION:Join the LM&amp;M Railroad in Helping Celebrate this Special Da
 y for all Mothers! Celebrate Mom! Mom’s day calls for Mimosa’s! Start a
  Mother’s Day tradition she will look forward to year after year. Make th
 is Mother’s Day special by treating mom to an enjoyable ride with her fam
 ily and friends[..]\nhttps://ohparent.com/events/moms-and-mimosas-at-lmm-ra
 ilroad/var/ri-1.l-L1
URL:https://ohparent.com/events/moms-and-mimosas-at-lmm-railroad/var/ri-1.l-L1
END:VEVENT
END:VCALENDAR