BEGIN:VCALENDAR
VERSION:2.0
PRODID:-//eventon.com NONSGML v1.0//EN
CALSCALE:GREGORIAN
METHOD:PUBLISH
BEGIN:VEVENT
UID:69ebb9806254e
DTSTAMP:20260424T184208Z
DTSTART:20250913T090000Z
DTEND:20251031T190000Z
LOCATION:Blooms &amp; Berries 9669 S. St. Rt. 48\,  Loveland\,  Ohio 45140
SUMMARY:Blooms & Berries Fall on the Farm
DESCRIPTION:Fall Fun for All Ages! ● Open Daily 9AM to 7PM ● Buy early 
 and SAVE! Weekday Season Passes Available  All tickets must be purchased o
 nline. ● 40-animal Petting Farm ● Pumpkin Bounce Pad ● Unlimited Hayr
 ides ● Play Yard with Giant Slide\,  Corn Box\,  Duck Pump Race &amp; mor
 e[..]\nhttps://ohparent.com/events/fall-on-the-farm/
URL:https://ohparent.com/events/fall-on-the-farm/
END:VEVENT
END:VCALENDAR