BEGIN:VCALENDAR
VERSION:2.0
PRODID:-//eventon.com NONSGML v1.0//EN
CALSCALE:GREGORIAN
METHOD:PUBLISH
BEGIN:VEVENT
UID:69e99ddde8dcb
DTSTAMP:20260423T041941Z
DTSTART:20251010T180000Z
DTEND:20251108T210000Z
LOCATION:Perfect North Slopes 19074 PERFECT PLACE LN
SUMMARY:Colorfall at Perfect North Slopes
DESCRIPTION:ColorFall is an immersive fall experience for all ages. Light d
 isplays and illuminated jack o’lanterns will welcome visitors as they mak
 e their way around the lake at Perfect North Slopes in Lawrenceburg\,  Indi
 ana. Guests will have the opportunity to immerse themselves in a fall wonde
 rland featuring: massive LED-lit trees\,  fall[..]\nhttps://ohparent.com/ev
 ents/colorfall-at-perfect-north-slopes/
URL:https://ohparent.com/events/colorfall-at-perfect-north-slopes/
END:VEVENT
END:VCALENDAR