BEGIN:VCALENDAR
VERSION:2.0
PRODID:-//eventon.com NONSGML v1.0//EN
CALSCALE:GREGORIAN
METHOD:PUBLISH
BEGIN:VEVENT
UID:69e5fb570c7d4
DTSTAMP:20260420T100927Z
DTSTART:20240924T090000Z
DTEND:20240924T190000Z
LOCATION:Blooms &amp; Berries 9669 S. St. Rt. 48\,  Loveland\,  Ohio 45140
SUMMARY:1/2 OFF Toddler Tuesdays
DESCRIPTION:Starting the second week of Fall on the Farm. Half price admiss
 ion for kids 2-4 years old with a paying adult every Tuesday!\nhttps://ohpa
 rent.com/events/1-2-off-toddler-tuesdays/
URL:https://ohparent.com/events/1-2-off-toddler-tuesdays/
END:VEVENT
END:VCALENDAR