BEGIN:VCALENDAR
VERSION:2.0
PRODID:-//eventon.com NONSGML v1.0//EN
CALSCALE:GREGORIAN
METHOD:PUBLISH
BEGIN:VEVENT
UID:69e7d3826bd08
DTSTAMP:20260421T194402Z
DTSTART:20241010T170000Z
DTEND:20241010T190000Z
LOCATION:SunWatch Indian Village 2301 W River Road
SUMMARY:Flavors of Fall
DESCRIPTION:Taste your way through fall flavors in the village\,  including
  a beer and honey tasting. Come celebrate the fall season with us out at Su
 nWatch Village! There will also be educational programming\,  food &amp; dr
 ink\,  music\,  and village tours. All included in the ticket price.\nhttps
 ://ohparent.com/events/flavors-of-fall/
URL:https://ohparent.com/events/flavors-of-fall/
END:VEVENT
END:VCALENDAR