BEGIN:VCALENDAR
VERSION:2.0
PRODID:-//eventon.com NONSGML v1.0//EN
CALSCALE:GREGORIAN
METHOD:PUBLISH
BEGIN:VEVENT
UID:69e7aa5fb1d39
DTSTAMP:20260421T164831Z
DTSTART:20251101T120000Z
DTEND:20251101T170000Z
LOCATION:Stanbery Park 2221 Oxford\,  Cincinnati\,  OH 45230
SUMMARY:19th Annual Pumpkin Chuck
DESCRIPTION:Medieval-style siege engines\,  flying pumpkins\,  food trucks\
 ,  craft beer\,  live entertainment\,  fall colors\,  and family fun: It’
 s the 19th annual Heads-Up Pumpkin Chuck from noon to 5 p.m. Saturday\,  No
 vember 1\,  2025\,  at Stanbery Park at 2201 Oxford Ave in Mt. Washington. 
 Join the Mount Washington Community Council and Stanbery[..]\nhttps://ohpar
 ent.com/events/19th-annual-pumpkin-chuck/
URL:https://ohparent.com/events/19th-annual-pumpkin-chuck/
END:VEVENT
END:VCALENDAR