BEGIN:VCALENDAR
VERSION:2.0
PRODID:-//eventon.com NONSGML v1.0//EN
CALSCALE:GREGORIAN
METHOD:PUBLISH
BEGIN:VEVENT
UID:69e531622fc78
DTSTAMP:20260419T194746Z
DTSTART:20241207T170000Z
DTEND:20241207T190000Z
LOCATION:BB Riverboats 101 Riverboat Row Newport\,   KY  41071
SUMMARY:Princess Cruise
DESCRIPTION:We respectfully request that all Royal Princesses join us for a
 n enchanting afternoon aboard our Princess Cruise. Enjoy a unique cruise fe
 aturing a DJ\,  dancing\,  and appearances by some of your favorite fairy t
 ale princesses that we all love. Bring your &#8220;Little Princess&#8221; o
 nboard and enjoy an afternoon that will[..]\nhttps://ohparent.com/events/pr
 incess-cruise/
URL:https://ohparent.com/events/princess-cruise/
END:VEVENT
END:VCALENDAR