BEGIN:VCALENDAR
VERSION:2.0
PRODID:-//eventon.com NONSGML v1.0//EN
CALSCALE:GREGORIAN
METHOD:PUBLISH
BEGIN:VEVENT
UID:69ea314f4e505
DTSTAMP:20260423T144847Z
DTSTART:20241207T190000Z
DTEND:20241208T045000Z
LOCATION:Taft Theatre 317 E 5th St\,  Cincinnati\,  OH 45202
SUMMARY:Santa Claus: The Musical
DESCRIPTION:It’s Christmas Eve! After 1\, 000 years of faithful service\,
   Santa and Mrs. Claus announce their decision to hang up the big red suit 
 and train a replacement. Enter Nick: a website designer and single dad to t
 ech-savvy daughter\,  Bee. With pressures mounting–and a jealous\,  naugh
 ty elf thwarting their every move–will[..]\nhttps://ohparent.com/events/s
 anta-claus-the-musical/
URL:https://ohparent.com/events/santa-claus-the-musical/
END:VEVENT
END:VCALENDAR