BEGIN:VCALENDAR
VERSION:2.0
PRODID:-//eventon.com NONSGML v1.0//EN
CALSCALE:GREGORIAN
METHOD:PUBLISH
BEGIN:VEVENT
UID:69e6991736e74
DTSTAMP:20260420T212231Z
DTSTART:20241117T193000Z
DTEND:20241118T045000Z
LOCATION:Roger Glass Center for the Arts 29 Creative Way\,  Dayton\,  OH 45479
SUMMARY:Dayton Philharmonic Junior Strings & Youth Strings Fall Concert
DESCRIPTION:Description These rising stars are shaping the future of classi
 cal music. Prepare to be dazzled by the extraordinary talent of young music
 ians as they grace the stage. Age Recommendation All audience members must 
 have a ticket\,  regardless of age. For the consideration of all patrons\, 
  children on laps and/or babes[..]\nhttps://ohparent.com/events/dayton-phil
 harmonic-junior-strings-youth-strings-fall-concert/
URL:https://ohparent.com/events/dayton-philharmonic-junior-strings-youth-strings-fall-concert/
END:VEVENT
END:VCALENDAR