BEGIN:VCALENDAR
VERSION:2.0
PRODID:-//eventon.com NONSGML v1.0//EN
CALSCALE:GREGORIAN
METHOD:PUBLISH
BEGIN:VEVENT
UID:69e7a9b5665d8
DTSTAMP:20260421T164541Z
DTSTART:20241122T223000Z
DTEND:20250102T040000Z
LOCATION:Thomas More Stadium 7950 Freedom Way
SUMMARY:Deck the Y'alls
DESCRIPTION:Your premier destination for holiday lights is back for another
  year at Thomas More Stadium! Decked out in more than 2.5 million brilliant
  lights and dazzling decorations that rival the North Pole. With holiday ac
 tivities\,  ice skating rink\,  food\,  drinks\,  fireworks and more\,  the
 se nights are anything but silent. You[..]\nhttps://ohparent.com/events/dec
 k-the-yalls/
URL:https://ohparent.com/events/deck-the-yalls/
END:VEVENT
END:VCALENDAR