BEGIN:VCALENDAR
VERSION:2.0
PRODID:-//eventon.com NONSGML v1.0//EN
CALSCALE:GREGORIAN
METHOD:PUBLISH
BEGIN:VEVENT
UID:69e8be9e73858
DTSTAMP:20260422T122710Z
DTSTART:20241112T160000Z
DTEND:20241112T170000Z
LOCATION:Cox Arboretum MetroPark 6733 Springboro Pk.\,  Miamisburg\,  OH\,  45459
SUMMARY:Family Caregiver Nature Walk
DESCRIPTION:Walks provided by The Area Agency on Aging and Five Rivers Metr
 oParks. The walk provides a respite and support for family caregivers. Meet
  Area Agency on Aging and Five Rives MetroPark staff members for a walk in 
 the park followed by a short social time to talk with other caregivers[..]\
 nhttps://ohparent.com/events/family-caregiver-nature-walk/
URL:https://ohparent.com/events/family-caregiver-nature-walk/
END:VEVENT
END:VCALENDAR