BEGIN:VCALENDAR
VERSION:2.0
PRODID:-//eventon.com NONSGML v1.0//EN
CALSCALE:GREGORIAN
METHOD:PUBLISH
BEGIN:VEVENT
UID:69e7e19303cca
DTSTAMP:20260421T204403Z
DTSTART:20241110T180000Z
DTEND:20241110T190000Z
LOCATION:Farbach-Werner Nature Preserve 3445 Poole Road\,  Cincinnati\,  OH 45251
SUMMARY:Nuts About Squirrels
DESCRIPTION:Take a walk around the park and check out what our squirrels ar
 e up to this time of year. Learn about how an often-overlooked animal plays
  an important part in our local ecosystems. &nbsp;\nhttps://ohparent.com/ev
 ents/nuts-about-squirrels/
URL:https://ohparent.com/events/nuts-about-squirrels/
END:VEVENT
END:VCALENDAR