BEGIN:VCALENDAR
VERSION:2.0
PRODID:-//eventon.com NONSGML v1.0//EN
CALSCALE:GREGORIAN
METHOD:PUBLISH
BEGIN:VEVENT
UID:69e5ff7dadf9c
DTSTAMP:20260420T102709Z
DTSTART:20241218T150000Z
DTEND:20241218T190000Z
LOCATION:Heritage Village Museum 11500 Lebanon Road
SUMMARY:A Quiet Christmas: Sensory-Friendly
DESCRIPTION:Enjoy a sensory-friendly\,  30 min. private session with Santa.
  This includes a craft\,  a snack\,  and photo-ops. Admission to Train Days
  is also included. This event is best suited for those who need a calmer en
 vironment to meet Santa in. The cost is $25 per group of up to 8[..]\nhttps
 ://ohparent.com/events/a-quiet-christmas-sensory-friendly/
URL:https://ohparent.com/events/a-quiet-christmas-sensory-friendly/
END:VEVENT
END:VCALENDAR