BEGIN:VCALENDAR
VERSION:2.0
PRODID:-//eventon.com NONSGML v1.0//EN
CALSCALE:GREGORIAN
METHOD:PUBLISH
BEGIN:VEVENT
UID:69e795242fc1c
DTSTAMP:20260421T151756Z
DTSTART:20251102T160000Z
DTEND:20251102T180000Z
LOCATION:Liberty Center 7100 Foundry Row\,   Liberty Twp\,  Ohio 45069
SUMMARY:Pumpkin Smash
DESCRIPTION:Instantly green your Halloween this year at our Pumpkin Smash! 
 Don’t trash it &#8211; smash it! Bring your old\,  rotting jack o&#8217;l
 anterns and SMASH them in our open-top dumpster. Composting your pumpkin at
  Liberty Center is a simple\,  earth-friendly way to celebrate. Don&#8217;t
  miss your chance to smash (recycle) your[..]\nhttps://ohparent.com/events/
 pumpkin-smash/
URL:https://ohparent.com/events/pumpkin-smash/
END:VEVENT
END:VCALENDAR