BEGIN:VCALENDAR
VERSION:2.0
PRODID:-//eventon.com NONSGML v1.0//EN
CALSCALE:GREGORIAN
METHOD:PUBLISH
BEGIN:VEVENT
UID:69e7fc3b4b353
DTSTAMP:20260421T223747Z
DTSTART:20241106T230000Z
DTEND:20241107T045000Z
LOCATION:Taft Theatre 317 E 5th St\,  Cincinnati\,  OH 45202
SUMMARY:Disney Jr. Live On Tour: Let's Play
DESCRIPTION:In “Disney Jr. Live On Tour: Let’s Play” presented by Wal
 mart\,  Mickey is getting ready for the biggest playdate ever at the Clubho
 use with all his favorite pals including Minnie and Goofy\,  the Puppy Dog 
 Pals\,  Ginny and Bitsy from “SuperKitties” and Ariel from “Disney Jr
 .’s Ariel\, ” but mysterious weather[..]\nhttps://ohparent.com/events/d
 isney-jr-live-on-tour-lets-play/
URL:https://ohparent.com/events/disney-jr-live-on-tour-lets-play/
END:VEVENT
END:VCALENDAR