BEGIN:VCALENDAR
VERSION:2.0
PRODID:-//eventon.com NONSGML v1.0//EN
CALSCALE:GREGORIAN
METHOD:PUBLISH
BEGIN:VEVENT
UID:69e6c8eecf442
DTSTAMP:20260421T004638Z
DTSTART:20241103T180000Z
DTEND:20241103T191500Z
LOCATION:Lebanon Mason Monroe Railroad 127 S. Mechanic St.\,  Lebanon\,  OH 45036
SUMMARY:Elf on the Train
DESCRIPTION:Enjoy an adventure aboard the ELF ON THE TRAIN on the Lebanon M
 ason Monroe Railroad! Ladies and Gents\,  ALL ABOARD and come join us at th
 e LM&amp;M for a kickoff to the most wonderful time of the year! Join Santa
 ’s Elves who’ve left their shelves to take you on an[..]\nhttps://ohpar
 ent.com/events/elf-on-the-train/
URL:https://ohparent.com/events/elf-on-the-train/
END:VEVENT
END:VCALENDAR