BEGIN:VCALENDAR
VERSION:2.0
PRODID:-//eventon.com NONSGML v1.0//EN
CALSCALE:GREGORIAN
METHOD:PUBLISH
BEGIN:VEVENT
UID:69e8bee9d493e
DTSTAMP:20260422T122825Z
DTSTART:20251128
DTEND:20251129
LOCATION:Downtown Dayton
SUMMARY:Dayton Holiday Festival
DESCRIPTION:The Dayton Holiday Festival is your source for family-friendl
 y holiday fun in downtown Dayton. Started by Mrs. Virginia Kettering in 197
 2 so that all children could enjoy the holiday season regardless of their e
 conomic means\,  the festival continues today with free attractions for the
  community. Each year\,  the festival kicks off Thanksgiving[..]\nhttps://o
 hparent.com/events/dayton-holiday-festival/
URL:https://ohparent.com/events/dayton-holiday-festival/
END:VEVENT
END:VCALENDAR