BEGIN:VCALENDAR
VERSION:2.0
PRODID:-//eventon.com NONSGML v1.0//EN
CALSCALE:GREGORIAN
METHOD:PUBLISH
BEGIN:VEVENT
UID:69e6d065df61e
DTSTAMP:20260421T011829Z
DTSTART:20241202T210000Z
DTEND:20241203T000000Z
LOCATION:Liberty Center 7100 Foundry Row\,   Liberty Twp\,  Ohio 45069
SUMMARY:Pet Photos with Santa
DESCRIPTION:We’ve reserved special times for your furry friends to join i
 n on your family photos with Santa. Monday\,  December 2 from 4-7pm Monday\
 ,  December 9 from 4-7pm Monday\,  December 16 from 4-7pm Pets must be leas
 hed or in a carrier. Reservations are recommended but not required. Walk-up
 s welcome.\nhttps://ohparent.com/events/pet-photos-with-santa/
URL:https://ohparent.com/events/pet-photos-with-santa/
END:VEVENT
END:VCALENDAR