BEGIN:VCALENDAR
VERSION:2.0
PRODID:-//eventon.com NONSGML v1.0//EN
CALSCALE:GREGORIAN
METHOD:PUBLISH
BEGIN:VEVENT
UID:69e7b7f994014
DTSTAMP:20260421T174633Z
DTSTART:20241208T153000Z
DTEND:20241208T163000Z
LOCATION:Liberty Center 7100 Foundry Row\,   Liberty Twp\,  Ohio 45069
SUMMARY:Sensory Santa 2024
DESCRIPTION:Sensory Santa is a sensory-friendly opportunity for children wi
 th special needs and their families to enjoy a private photo session and vi
 sit with Santa Claus in a calming environment before the mall opens to the 
 public. If you would like a professional photo with Santa\,  those may be p
 urchased onsite[..]\nhttps://ohparent.com/events/sensory-santa-2024/
URL:https://ohparent.com/events/sensory-santa-2024/
END:VEVENT
END:VCALENDAR