BEGIN:VCALENDAR
VERSION:2.0
PRODID:-//eventon.com NONSGML v1.0//EN
CALSCALE:GREGORIAN
METHOD:PUBLISH
BEGIN:VEVENT
UID:69e7be2a1f075
DTSTAMP:20260421T181258Z
DTSTART:20241123T200000Z
DTEND:20241124T000000Z
LOCATION:Newport on the Levee Riverboat Row\,  Newport Ky 41071
SUMMARY:Light up the Levee
DESCRIPTION:Youâ€™re invited to celebrate the magic of the holiday season! 
 Enjoy an evening of festive fun including live music\,  fireworks\,  and a 
 visit from Santa Claus as we light our magnificent 50-ft tree! Schedule of 
 Events: 3PM to 7PM:Â Santaâ€™s Workshop in the Gallery Festive Fun Awaits!Â
  Snap cheerful photos with Santa\, [..]\nhttps://ohparent.com/events/light-
 up-the-levee/
URL:https://ohparent.com/events/light-up-the-levee/
END:VEVENT
END:VCALENDAR