BEGIN:VCALENDAR
VERSION:2.0
PRODID:-//eventon.com NONSGML v1.0//EN
CALSCALE:GREGORIAN
METHOD:PUBLISH
BEGIN:VEVENT
UID:69eba71f7b3d4
DTSTAMP:20260424T172343Z
DTSTART:20251206T150000Z
DTEND:20251207T010000Z
LOCATION:Downtown Lebanon 212 N. Broadway St.\,  Lebanon\,  Ohio 45036
SUMMARY:Lebanon Horse Parade
DESCRIPTION:Known as the Lebanon Horse Parade\,  the Lebanon Horse Drawn Ca
 rriage Parade &amp; Christmas Festival in Lebanon\,  Ohio\,  is hosted by T
 he Lebanon Area Chamber of Commerce. The Lebanon Horse Drawn Carriage Parad
 e &amp; Christmas Festival is always held on the first Saturday in December
 . There will be two horse-drawn[..]\nhttps://ohparent.com/events/lebanon-ho
 rse-parade/
URL:https://ohparent.com/events/lebanon-horse-parade/
END:VEVENT
END:VCALENDAR