BEGIN:VCALENDAR
VERSION:2.0
PRODID:-//eventon.com NONSGML v1.0//EN
CALSCALE:GREGORIAN
METHOD:PUBLISH
BEGIN:VEVENT
UID:69e7e2cf10daa
DTSTAMP:20260421T204919Z
DTSTART:20241201T150000Z
DTEND:20241201T090000Z
LOCATION:Taft Museum of Art 316 Pike Street 45202 - Downtown
SUMMARY:Holiday Family Funday
DESCRIPTION:Sundays through December December 1 | German Christmas December
  8 | Festive Folk December 15 | Hanukkah 10 a.m.–4 p.m. Explore the museu
 m with our free Family Fundays throughout the year! These special days offe
 r a new experience each time you visit. Music\,  art-making\,  and gallery 
 engagements throughout the day[..]\nhttps://ohparent.com/events/holiday-fam
 ily-funday/
URL:https://ohparent.com/events/holiday-family-funday/
END:VEVENT
END:VCALENDAR