BEGIN:VCALENDAR
VERSION:2.0
PRODID:-//eventon.com NONSGML v1.0//EN
CALSCALE:GREGORIAN
METHOD:PUBLISH
BEGIN:VEVENT
UID:69e82360aa23d
DTSTAMP:20260422T012448Z
DTSTART:20251206T220000Z
DTEND:20251207T003000Z
LOCATION:Downtown Historic Montgomery Corner of Montgomery Rd & Cooper Rd\,  Montgomery\,  OH 45242
SUMMARY:Holiday in the Village
DESCRIPTION:Join us for the City’s annual Tree Lighting at 5:00 p.m. Bri
 ng the family to this free event! The Tree Lighting is at Neuilly Plaisance
  Fountain. Gather around the tree and countdown to the lighting with Carole
 rs dressed in Victorian costumes. North Pole Workshop in Universalist Churc
 h 5:30 – 7:30 p.m.[..]\nhttps://ohparent.com/events/holiday-in-the-villag
 e/
URL:https://ohparent.com/events/holiday-in-the-village/
END:VEVENT
END:VCALENDAR