BEGIN:VCALENDAR
VERSION:2.0
PRODID:-//eventon.com NONSGML v1.0//EN
CALSCALE:GREGORIAN
METHOD:PUBLISH
BEGIN:VEVENT
UID:69eb4a9e01e6d
DTSTAMP:20260424T104902Z
DTSTART:20250118T140000Z
DTEND:20250118T170000Z
LOCATION:
SUMMARY:Time Travel Half-Marathon/10K/5K
DESCRIPTION:Y’all ready for a rip-roarin’ good time? Saddle up and join
  us for a time-warpin’ adventure like no other at our Time Travel-themed 
 5K\,  10K\,  and Half Marathon! Whether you’re a seasoned trailblazer or 
 a greenhorn just startin’ out\,  this event guarantees a wild ride throug
 h the ages. Secure your[..]\nhttps://ohparent.com/events/time-travel-half-m
 arathon-10k-5k-fairfield-oh/
URL:https://ohparent.com/events/time-travel-half-marathon-10k-5k-fairfield-oh/
END:VEVENT
END:VCALENDAR