BEGIN:VCALENDAR
VERSION:2.0
PRODID:-//eventon.com NONSGML v1.0//EN
CALSCALE:GREGORIAN
METHOD:PUBLISH
BEGIN:VEVENT
UID:69e505de5c6a3
DTSTAMP:20260419T164206Z
DTSTART:20250309T140000Z
DTEND:20250309T200000Z
LOCATION:R.S.V.P Event Center 453 Wards Corner Rd. Loveland\,  OH 45140
SUMMARY:2025 Cincinnati Spring Avant-Garde Art & Craft Show
DESCRIPTION:Kick off spring with us! This large show will feature artists a
 nd crafters selling their original handmade items! The show will also be ca
 tered with a concession stand by the venue. Admission is $3 to the public\,
   children under 12 are free. A portion of proceeds will benefit the local[
 ..]\nhttps://ohparent.com/events/2025-cincinnati-spring-avant-garde-art-cra
 ft-show/
URL:https://ohparent.com/events/2025-cincinnati-spring-avant-garde-art-craft-show/
END:VEVENT
END:VCALENDAR