BEGIN:VCALENDAR
VERSION:2.0
PRODID:-//eventon.com NONSGML v1.0//EN
CALSCALE:GREGORIAN
METHOD:PUBLISH
BEGIN:VEVENT
UID:69eb8e0dae38c
DTSTAMP:20260424T153645Z
DTSTART:20250201T003000Z
DTEND:20250201T030000Z
LOCATION:The Carnegie 1028 Scott Blvd.\,  Covington\,  KY 41011
SUMMARY:SEUSSICAL
DESCRIPTION:Step into the magical world of SEUSSICAL\,  where Dr. Seuss’s
  beloved characters come alive in a joyous adventure for the whole family. 
 This enchanting musical immerses audiences in a fantastical journey that sp
 arks laughter\,  captures hearts\,  and leaves lasting memories. The Carneg
 ie and the University of Cincinnati College-Conservatory of Music[..]\nhttp
 s://ohparent.com/events/seussical/
URL:https://ohparent.com/events/seussical/
END:VEVENT
END:VCALENDAR