BEGIN:VCALENDAR
VERSION:2.0
PRODID:-//eventon.com NONSGML v1.0//EN
CALSCALE:GREGORIAN
METHOD:PUBLISH
BEGIN:VEVENT
UID:69eb4ae90a850
DTSTAMP:20260424T105017Z
DTSTART:20250216T003000Z
DTEND:20250216T030000Z
LOCATION:The Carnegie 1028 Scott Blvd.\,  Covington\,  KY 41011
SUMMARY:SEUSSICAL
DESCRIPTION:Step into the magical world of SEUSSICAL\,  where Dr. Seuss’s
  beloved characters come alive in a joyous adventure for the whole family. 
 This enchanting musical immerses audiences in a fantastical journey that sp
 arks laughter\,  captures hearts\,  and leaves lasting memories. The Carneg
 ie and the University of Cincinnati College-Conservatory of Music[..]\nhttp
 s://ohparent.com/events/seussical/var/ri-8.l-L1
URL:https://ohparent.com/events/seussical/var/ri-8.l-L1
END:VEVENT
END:VCALENDAR