BEGIN:VCALENDAR
VERSION:2.0
PRODID:-//eventon.com NONSGML v1.0//EN
CALSCALE:GREGORIAN
METHOD:PUBLISH
BEGIN:VEVENT
UID:69e8beeeb4810
DTSTAMP:20260422T122830Z
DTSTART:20250114T230000Z
DTEND:20250115T045900Z
LOCATION:Great Parks Nature Center at The Summit 1580 Summit Rd\,  Cincinnati\,  OH 45237
SUMMARY:Game Night @ The Summit
DESCRIPTION:What’s better than a board game on a winter’s night? Come v
 isit the Nature Center to play nature-themed board games\,  meet new people
 \,  and get out of the cold!\nhttps://ohparent.com/events/game-night-the-su
 mmit/
URL:https://ohparent.com/events/game-night-the-summit/
END:VEVENT
END:VCALENDAR