BEGIN:VCALENDAR
VERSION:2.0
PRODID:-//eventon.com NONSGML v1.0//EN
CALSCALE:GREGORIAN
METHOD:PUBLISH
BEGIN:VEVENT
UID:69e7073765a5e
DTSTAMP:20260421T051223Z
DTSTART:20250128T220000Z
DTEND:20250129T000000Z
LOCATION:Little Miami Golf Center 3811 Newtown Rd\,  Cincinnati\,  OH 45244
SUMMARY:Paw Prints in the Powder
DESCRIPTION:It’s the perfect time to go out in nature and search for sign
 s of animals typically unseen\,  like tracks on the frozen ground. We’ll 
 find clues that reveal what animals might be living in an urban landscape.\
 nhttps://ohparent.com/events/paw-prints-in-the-powder/
URL:https://ohparent.com/events/paw-prints-in-the-powder/
END:VEVENT
END:VCALENDAR