BEGIN:VCALENDAR
VERSION:2.0
PRODID:-//eventon.com NONSGML v1.0//EN
CALSCALE:GREGORIAN
METHOD:PUBLISH
BEGIN:VEVENT
UID:69eb7c111df7f
DTSTAMP:20260424T142001Z
DTSTART:20250206T160000Z
DTEND:20250206T170000Z
LOCATION:Winton Woods 10245 Winton Road\,  Cincinnati\,  OH 45218
SUMMARY:Staying Warm: Feathered Friends
DESCRIPTION:Birds of a feather stay warm together. Learn how our feathered 
 friends stay cozy in the winter as we explore the barnyard. Make a bird fee
 der to take home or stay after to feed our flock\nhttps://ohparent.com/even
 ts/staying-warm-feathered-friends/
URL:https://ohparent.com/events/staying-warm-feathered-friends/
END:VEVENT
END:VCALENDAR