BEGIN:VCALENDAR
VERSION:2.0
PRODID:-//eventon.com NONSGML v1.0//EN
CALSCALE:GREGORIAN
METHOD:PUBLISH
BEGIN:VEVENT
UID:69eb65caa049f
DTSTAMP:20260424T124458Z
DTSTART:20250208T220000Z
DTEND:20250209T045900Z
LOCATION:Sharon Woods 11355 Swing Road\,  Cincinnati\,  OH 45241
SUMMARY:Superb Owl Saturday
DESCRIPTION:The Super Bowl may be on Sunday\,  but join us Saturday in a se
 arch for superb owls! We will hike the Gorge Trail\,  listening and looking
  for these secretive birds of prey. Be sure to dress for the weather.\nhttp
 s://ohparent.com/events/superb-owl-saturday/
URL:https://ohparent.com/events/superb-owl-saturday/
END:VEVENT
END:VCALENDAR