BEGIN:VCALENDAR
VERSION:2.0
PRODID:-//eventon.com NONSGML v1.0//EN
CALSCALE:GREGORIAN
METHOD:PUBLISH
BEGIN:VEVENT
UID:69e8a9c12f944
DTSTAMP:20260422T105809Z
DTSTART:20250116T150000Z
DTEND:20250116T163000Z
LOCATION:Chrisholm MetroPark Historic Farmstead 2070 Woodsdale Road\,  Trenton\,  OH 45067
SUMMARY:Discovery on the Farm - Mittens and PJ Party
DESCRIPTION:Wear your pajamas and mittens to celebrate winter at the farm! 
 Discover who is living in our &#8220;mitten&#8221; at the farm. Find out if
  they are wearing their winter pajamas indoors\,  mittens outdoors or both!
 \nhttps://ohparent.com/events/discovery-on-the-farm-mittens-and-pj-party/
URL:https://ohparent.com/events/discovery-on-the-farm-mittens-and-pj-party/
END:VEVENT
END:VCALENDAR