BEGIN:VCALENDAR
VERSION:2.0
PRODID:-//eventon.com NONSGML v1.0//EN
CALSCALE:GREGORIAN
METHOD:PUBLISH
BEGIN:VEVENT
UID:69e7b7e7ab58c
DTSTAMP:20260421T174615Z
DTSTART:20250126T160000Z
DTEND:20250126T170000Z
LOCATION:Cincinnati Nature Center – Rowe Woods 4949 Tealtown Road  Milford\,  OH 45150
SUMMARY:Tools of the Sugar House
DESCRIPTION:Get a behind-the-scenes look at the maple syrup evaporator and 
 sugaring tools like skimmers\,  filters\,  and thermometers. You’ll be ab
 le to look inside the sap storage tanks\,  help set up for the day’s prog
 rams\,  and help prepare the materials to fire up the evaporator. &nbsp; Th
 is program is designed for[..]\nhttps://ohparent.com/events/tools-of-the-su
 gar-house/
URL:https://ohparent.com/events/tools-of-the-sugar-house/
END:VEVENT
END:VCALENDAR