BEGIN:VCALENDAR
VERSION:2.0
PRODID:-//eventon.com NONSGML v1.0//EN
CALSCALE:GREGORIAN
METHOD:PUBLISH
BEGIN:VEVENT
UID:69e5ec7eb23bb
DTSTAMP:20260420T090606Z
DTSTART:20250203T141500Z
DTEND:20250203T151500Z
LOCATION:Cincinnati Nature Center – Rowe Woods 4949 Tealtown Road  Milford\,  OH 45150
SUMMARY:Early Childhood Maple Adventure
DESCRIPTION:Registration Requirements: Preregistration required. Recommend
 ed Audience: This program is best suited for children ages 3-6 years old w
 ith an adult caregiver. Children must attend with an adult caregiver. Prog
 ram Description: Get ready to use all your senses as we discover the magic
  of maple! With a naturalist\,  young children and their caregivers will ex
 plore[..]\nhttps://ohparent.com/events/early-childhood-maple-adventure/
URL:https://ohparent.com/events/early-childhood-maple-adventure/
END:VEVENT
END:VCALENDAR