BEGIN:VCALENDAR
VERSION:2.0
PRODID:-//eventon.com NONSGML v1.0//EN
CALSCALE:GREGORIAN
METHOD:PUBLISH
BEGIN:VEVENT
UID:69eb4aa7eecec
DTSTAMP:20260424T104911Z
DTSTART:20250208T010000Z
DTEND:20250210T010000Z
LOCATION:Dayton Convention Center 22 E 5th Street\,  Dayton\,  OH
SUMMARY:Jurassic Quest
DESCRIPTION:Dinosaurs are invading Dayton\,  and you’re invited to join t
 he adventure! Jurassic Quest\,  the world’s largest and most popular dino
 saur event will take over the Dayton Convention Center\,  offering unforget
 table experiences for the whole family.  When you purchase your tickets us
 ing the code DSNH30\,  you’ll save 30% AND help support[..]\nhttps://ohpa
 rent.com/events/jurassic-quest/
URL:https://ohparent.com/events/jurassic-quest/
END:VEVENT
END:VCALENDAR