BEGIN:VCALENDAR
VERSION:2.0
PRODID:-//eventon.com NONSGML v1.0//EN
CALSCALE:GREGORIAN
METHOD:PUBLISH
BEGIN:VEVENT
UID:69e7e2d90fad0
DTSTAMP:20260421T204929Z
DTSTART:20250215
DTEND:20250216
LOCATION:Aronoff Center for the Arts 650 Walnut Street Cincinnati OH 45202
SUMMARY:Shen Yun
DESCRIPTION:The culture of ancient China was divinely inspired. Shen Yun’
 s works reflect this rich spiritual heritage&#8230; Shen Yun invites you t
 o travel back to the magical world of ancient China. Experience a lost cult
 ure through the incredible art of classical Chinese dance\,  and see legend
 s come to life. Shen Yun makes this possible[..]\nhttps://ohparent.com/ev
 ents/shen-yun/
URL:https://ohparent.com/events/shen-yun/
END:VEVENT
END:VCALENDAR