BEGIN:VCALENDAR
VERSION:2.0
PRODID:-//eventon.com NONSGML v1.0//EN
CALSCALE:GREGORIAN
METHOD:PUBLISH
BEGIN:VEVENT
UID:69eb336342a03
DTSTAMP:20260424T090955Z
DTSTART:20250927T150000Z
DTEND:20250927T180000Z
LOCATION:Washington Park 1230 Elm Street\,  Cincinnati\,  OH 45202
SUMMARY:Burgers\,  BBQ & Beer
DESCRIPTION:Join Cincinnati Food Tours for a three-hour walking adventure t
 hrough the historic Over-the-Rhine neighborhood\,  where history and delici
 ous flavors come together! You’ll stroll the streets that once housed 19t
 h-century immigrants and hear fascinating tales about how Cincinnati earned
  its nickname\,  Porkopolis. As you wander\,  you’ll uncover the rich leg
 acy of[..]\nhttps://ohparent.com/events/burgers-bbq-beer-8/
URL:https://ohparent.com/events/burgers-bbq-beer-8/
END:VEVENT
END:VCALENDAR