BEGIN:VCALENDAR
VERSION:2.0
PRODID:-//eventon.com NONSGML v1.0//EN
CALSCALE:GREGORIAN
METHOD:PUBLISH
BEGIN:VEVENT
UID:69e5ec89a4743
DTSTAMP:20260420T090617Z
DTSTART:20250308T150000Z
DTEND:20250308T163000Z
LOCATION:Englewood MetroPark 4361 National Rd.\,  Vandalia\,  OH\,  45377
SUMMARY:Woodland Adventure
DESCRIPTION:Get out in the crisp\,  fresh air for an adventurous nature hik
 e through a successional woodland\,  exploring the trees\,  plants\,  and w
 ildlife. Presented by Enting Water Conditioning Weather Dependent.\nhttps:/
 /ohparent.com/events/woodland-adventure/
URL:https://ohparent.com/events/woodland-adventure/
END:VEVENT
END:VCALENDAR