BEGIN:VCALENDAR
VERSION:2.0
PRODID:-//eventon.com NONSGML v1.0//EN
CALSCALE:GREGORIAN
METHOD:PUBLISH
BEGIN:VEVENT
UID:69e5f3c612de1
DTSTAMP:20260420T093710Z
DTSTART:20250525T170000Z
DTEND:20250525T200000Z
LOCATION:RAPTOR Inc. 961 Barg Salt Run Road\,  Milford
SUMMARY:RAPTOR Inc. Open House
DESCRIPTION:On the last Sunday of each month (March-November) from 1pm to 4
 pm our highly skilled educators will be available to welcome guests\,  lead
  tours\,  conduct educational programs with our avian ambassadors\,  share 
 biological artifacts\,  and answer questions. You will have the opportunity
  to visit various educational stations where you can[..]\nhttps://ohparent.
 com/events/raptor-inc-open-house-9/
URL:https://ohparent.com/events/raptor-inc-open-house-9/
END:VEVENT
END:VCALENDAR