BEGIN:VCALENDAR
VERSION:2.0
PRODID:-//eventon.com NONSGML v1.0//EN
CALSCALE:GREGORIAN
METHOD:PUBLISH
BEGIN:VEVENT
UID:69e7a556544f9
DTSTAMP:20260421T162702Z
DTSTART:20250317T144500Z
DTEND:20250317T153000Z
LOCATION:MidPointe Library Liberty 7100 Foundry Row\,  Suite S-234 Liberty Township\,  OH 45069
SUMMARY:Tot Time
DESCRIPTION:Playing is a great way to grow motor\,  social and other develo
 pmental skills. Caregivers can connect with each other while the little one
 s play. Ages 0-36 months.\nhttps://ohparent.com/events/tot-time/
URL:https://ohparent.com/events/tot-time/
END:VEVENT
END:VCALENDAR