BEGIN:VCALENDAR
VERSION:2.0
PRODID:-//eventon.com NONSGML v1.0//EN
CALSCALE:GREGORIAN
METHOD:PUBLISH
BEGIN:VEVENT
UID:69e8ae5616912
DTSTAMP:20260422T111742Z
DTSTART:20260328
DTEND:20260329
LOCATION:Lebanon Mason Monroe Railroad 127 S. Mechanic St.\,  Lebanon\,  OH 45036
SUMMARY:The Easter Bunny Express
DESCRIPTION:Hop aboard the LM&amp;M Railroad’s Easter Bunny Express! 2026
  Dates:  March 28 &amp; 29 – April 3 &amp; 4 There is no better way to c
 elebrate the coming of spring and enjoy some of the first signs of spring t
 han  riding on the LM&amp;M Railroads Easter Bunny Express.  Passengers o
 n[..]\nhttps://ohparent.com/events/the-easter-bunny-express/
URL:https://ohparent.com/events/the-easter-bunny-express/
END:VEVENT
END:VCALENDAR