BEGIN:VCALENDAR
VERSION:2.0
PRODID:-//eventon.com NONSGML v1.0//EN
CALSCALE:GREGORIAN
METHOD:PUBLISH
BEGIN:VEVENT
UID:69eb8defbc6d4
DTSTAMP:20260424T153615Z
DTSTART:20250322T140000Z
DTEND:20250322T210000Z
LOCATION:Montgomery County Fairgrounds 645 Infirmary Rd.\,  Dayton\,  OH
SUMMARY:7th Annual Sweet Spring Marketplace
DESCRIPTION:A treasure trove of finds! From garden &amp; home decor to hand
 crafted goodies like candles\,  soaps\,  houseplants\,  windchimes\,  and u
 nique lighting. Don&#8217;t miss out on the stunning jewelry and fashion bo
 utiques for all ages. Munch on gourmet snacks like kettle corn\,  honey dip
 s\,  breads\,  cakes\,  candy\,  and more. Plus\,  essential[..]\nhttps://o
 hparent.com/events/7th-annual-sweet-spring-marketplace/
URL:https://ohparent.com/events/7th-annual-sweet-spring-marketplace/
END:VEVENT
END:VCALENDAR