BEGIN:VCALENDAR
VERSION:2.0
PRODID:-//eventon.com NONSGML v1.0//EN
CALSCALE:GREGORIAN
METHOD:PUBLISH
BEGIN:VEVENT
UID:69e7bdb8bc86a
DTSTAMP:20260421T181104Z
DTSTART:20260416T220000Z
DTEND:20260417T003000Z
LOCATION:Cincinnati Zoo &amp; Botanical Garden 3400 Vine Street\,  Cincinnati\,  OH 45220
SUMMARY:Tunes & Blooms
DESCRIPTION:See a collection of Cincinnati’s finest and most respected mu
 sicians playing together in the Zoo’s beautiful gardens\,  for FREE! Why 
 tip-toe through the tulips when you can rock the garden? On Thursdays durin
 g Tunes &amp; Blooms\,  admission is free after 5pm. Parking is $10.  Musi
 c starts at 6pm. The LaRosa’s[..]\nhttps://ohparent.com/events/tunes-bloo
 ms/var/ri-2.l-L1
URL:https://ohparent.com/events/tunes-blooms/var/ri-2.l-L1
END:VEVENT
END:VCALENDAR