BEGIN:VCALENDAR
VERSION:2.0
PRODID:-//eventon.com NONSGML v1.0//EN
CALSCALE:GREGORIAN
METHOD:PUBLISH
BEGIN:VEVENT
UID:69e4dec12a1ad
DTSTAMP:20260419T135513Z
DTSTART:20260327T233000Z
DTEND:20260328T020000Z
LOCATION:Caesar Ford Park 520 South Stringtown Road Xenia\,  OH 45385
SUMMARY:Extreme Egg Hunt
DESCRIPTION:Our egg hunts are AMPED up\,  EXTREME and sure to be a wild ti
 me! Can you find Easter eggs in the dark? If you can\,  you could win prize
 s! Participants must have a flashlight to participate\,  bags will be provi
 ded. On your mark\,  get set…HUNT! ****There is an 8 ticket limit[..]\nht
 tps://ohparent.com/events/extreme-egg-hunt/
URL:https://ohparent.com/events/extreme-egg-hunt/
END:VEVENT
END:VCALENDAR