BEGIN:VCALENDAR
VERSION:2.0
PRODID:-//eventon.com NONSGML v1.0//EN
CALSCALE:GREGORIAN
METHOD:PUBLISH
BEGIN:VEVENT
UID:69e7e2d40c55e
DTSTAMP:20260421T204924Z
DTSTART:20260328T233000Z
DTEND:20260329T020000Z
LOCATION:Caesar Ford Park 520 South Stringtown Road Xenia\,  OH 45385
SUMMARY:Teen Egg Hunt
DESCRIPTION:$8 Per Participant! REGISTRATION REQUIRED! Extreme Egg Hunts ar
 en’t just for adults anymore!! This Extreme hunt is just for our TWEENS a
 nd TEENS!! Those aged 10-17 &#8211; bring your friends\,  bring your flashl
 ights and bring the HYPE!!! Prizes could possibly await you as you exit the
  dark woods with your[..]\nhttps://ohparent.com/events/teen-egg-hunt/
URL:https://ohparent.com/events/teen-egg-hunt/
END:VEVENT
END:VCALENDAR