BEGIN:VCALENDAR
VERSION:2.0
PRODID:-//eventon.com NONSGML v1.0//EN
CALSCALE:GREGORIAN
METHOD:PUBLISH
BEGIN:VEVENT
UID:69e798bc6c049
DTSTAMP:20260421T153316Z
DTSTART:20260328T150000Z
DTEND:20260329T190000Z
LOCATION:Washington Park 1230 Elm Street\,  Cincinnati\,  OH 45202
SUMMARY:Washington Park Egg Hunt
DESCRIPTION:It’s Washington Park Egg Hunt time and every-bunny is invited
 ! This Spring\,  Washington Park will be hosting a FREE egg scavenger hunt 
 in the park all weekend long! Kids of all ages can find the hidden “eggs
  around the park\,  mark them off their list\,  and get some super egg-ci
 ting[..]\nhttps://ohparent.com/events/washington-park-egg-hunt/
URL:https://ohparent.com/events/washington-park-egg-hunt/
END:VEVENT
END:VCALENDAR