BEGIN:VCALENDAR
VERSION:2.0
PRODID:-//eventon.com NONSGML v1.0//EN
CALSCALE:GREGORIAN
METHOD:PUBLISH
BEGIN:VEVENT
UID:69e80f0c1f407
DTSTAMP:20260421T235804Z
DTSTART:20250412T224000Z
DTEND:20250413T020000Z
LOCATION:Great American Ballpark 100 Joe Nuxhall Way\,  Cincinnati\,  OH 45202
SUMMARY:Reds vs. Pirates
DESCRIPTION:Cheers on the Reds as they take on the Pirates! Promotion: Coll
 ect an Elly De La Cruz Switch-Hitter Bobblehead! Left-handed and right-hand
 ed versions will be randomly distributed. To fans in attendance\,  while su
 pplies last.\nhttps://ohparent.com/events/reds-vs-pirates/
URL:https://ohparent.com/events/reds-vs-pirates/
END:VEVENT
END:VCALENDAR