BEGIN:VCALENDAR
VERSION:2.0
PRODID:-//eventon.com NONSGML v1.0//EN
CALSCALE:GREGORIAN
METHOD:PUBLISH
BEGIN:VEVENT
UID:69e89bc185ff3
DTSTAMP:20260422T095825Z
DTSTART:20250501T140000Z
DTEND:20250504T220000Z
LOCATION:Neusole Glassworks 11925 Kemper Springs Dr
SUMMARY:Mother's Day Vase and Flower
DESCRIPTION:Celebrate Mom&#8217;s special day making a vase and flower set 
 from hot molten glass! You will get to experience not one\,  but two differ
 ent hot glass techniques used by the experts; you will blow a vase and scul
 pt a flower from hot molten glass with help from our professional glass[..]
 \nhttps://ohparent.com/events/mothers-day-vase-and-flower/
URL:https://ohparent.com/events/mothers-day-vase-and-flower/
END:VEVENT
END:VCALENDAR